BEGIN:VCALENDAR
VERSION:2.0
PRODID:-//pretix//club.ritterbutzke.com//
BEGIN:VTIMEZONE
TZID:Europe/Berlin
BEGIN:STANDARD
DTSTART:20001029T040000
RRULE:FREQ=YEARLY;BYDAY=-1SU;BYMONTH=10
TZNAME:CET
TZOFFSETFROM:+0200
TZOFFSETTO:+0100
END:STANDARD
BEGIN:DAYLIGHT
DTSTART:20000326T030000
RRULE:FREQ=YEARLY;BYDAY=-1SU;BYMONTH=3
TZNAME:CEST
TZOFFSETFROM:+0100
TZOFFSETTO:+0200
END:DAYLIGHT
END:VTIMEZONE
BEGIN:VEVENT
UID:pretix-modus-030427-YorickTiede-0@tickets.modus-berlin.de
DTSTART;TZID=Europe/Berlin:20270403T200000
DTEND;TZID=Europe/Berlin:20270403T210000
DESCRIPTION:Tickets: https://tickets.modus-berlin.de/030427-YorickTiede/\nE
 inlass: 03.04.2027 19:00\nVeranstalter: Modus Berlin
DTSTAMP:20260422T123532Z
LOCATION:MODUS BERLIN\, Ritterstraße 24-27\, 10969 Berlin
SUMMARY:Yorick Tiede - Polygon| Apr '27
END:VEVENT
END:VCALENDAR
